BEGIN:VCALENDAR
VERSION:2.0
PRODID:-//1920 - ECPv6.15.18//NONSGML v1.0//EN
CALSCALE:GREGORIAN
METHOD:PUBLISH
X-WR-CALNAME:1920
X-ORIGINAL-URL:https://1920yborcity.com
X-WR-CALDESC:Events for 1920
REFRESH-INTERVAL;VALUE=DURATION:PT1H
X-Robots-Tag:noindex
X-PUBLISHED-TTL:PT1H
BEGIN:VTIMEZONE
TZID:UTC
BEGIN:STANDARD
TZOFFSETFROM:+0000
TZOFFSETTO:+0000
TZNAME:UTC
DTSTART:20250101T000000
END:STANDARD
END:VTIMEZONE
BEGIN:VEVENT
DTSTART;TZID=UTC:20260411T150000
DTEND;TZID=UTC:20260411T230000
DTSTAMP:20260420T113024
CREATED:20260407T141222Z
LAST-MODIFIED:20260407T141222Z
UID:10000015-1775919600-1775948400@1920yborcity.com
SUMMARY:How A Sunset Sounds 2 Year Anniversary
DESCRIPTION:
URL:https://1920yborcity.com/event/how-a-sunset-sounds-2-year-anniversary/
LOCATION:1920\, 1920 E 7th Ave\, Tampa\, FL\, 33605
ATTACH;FMTTYPE=image/jpeg:https://1920yborcity.com/wp-content/uploads/2026/04/IMG_3467.jpeg
END:VEVENT
END:VCALENDAR