BEGIN:VCALENDAR
VERSION:2.0
PRODID:-//1920 - ECPv6.15.18//NONSGML v1.0//EN
CALSCALE:GREGORIAN
METHOD:PUBLISH
X-ORIGINAL-URL:https://1920yborcity.com
X-WR-CALDESC:Events for 1920
REFRESH-INTERVAL;VALUE=DURATION:PT1H
X-Robots-Tag:noindex
X-PUBLISHED-TTL:PT1H
BEGIN:VTIMEZONE
TZID:UTC
BEGIN:STANDARD
TZOFFSETFROM:+0000
TZOFFSETTO:+0000
TZNAME:UTC
DTSTART:20250101T000000
END:STANDARD
END:VTIMEZONE
BEGIN:VEVENT
DTSTART;TZID=UTC:20260514T190000
DTEND;TZID=UTC:20260514T230000
DTSTAMP:20260420T125532
CREATED:20260407T142504Z
LAST-MODIFIED:20260407T142504Z
UID:10000019-1778785200-1778799600@1920yborcity.com
SUMMARY:Live Music: Femme Faire
DESCRIPTION:Femme Faire is a benefit concert to amplofy female voices in the community as well as raise money for mental health and access to women’s healthcare. Join us for a night of fun and music with an all female fronted band line up!
URL:https://1920yborcity.com/event/live-music-femme-faire/
LOCATION:1920\, 1920 E 7th Ave\, Tampa\, FL\, 33605
ATTACH;FMTTYPE=image/jpeg:https://1920yborcity.com/wp-content/uploads/2026/04/IMG_3471.jpeg
END:VEVENT
END:VCALENDAR